BEGIN:VCALENDAR
VERSION:2.0
X-WR-CALNAME: Bikini Kill
PRODID:GIGPRESS 2.0 WORDPRESS PLUGIN
CALSCALE:GREGORIAN
X-WR-TIMEZONE:Etc/GMT
METHOD:PUBLISH
BEGIN:VTIMEZONE
TZID:GMT
BEGIN:STANDARD
DTSTART:20071028T010000
TZOFFSETTO:+0000
TZOFFSETFROM:+0000
END:STANDARD
END:VTIMEZONE
BEGIN:VEVENT
SUMMARY:Bikini Kill at Mosswood Meltdown
DESCRIPTION:All Ages
LOCATION:Mosswood Meltdown\, Oakland\, US
UID:20260720T020000Z-4906-johnthomasreed@gmail.com
URL:https://www.panacherock.com
DTSTART;VALUE=DATE-TIME;TZID=GMT:20260720T020000Z
DTEND;VALUE=DATE-TIME;TZID=GMT:20260720T020000Z
DTSTAMP:20260426T031310Z
END:VEVENT
BEGIN:VEVENT
SUMMARY:Bikini Kill at Bumbershoot Arts and Music Festival
DESCRIPTION:All Ages
LOCATION:Bumbershoot Arts and Music Festival\, Seattle\, US
UID:20260906T020000Z-4966-johnthomasreed@gmail.com
URL:https://www.panacherock.com
DTSTART;VALUE=DATE-TIME;TZID=GMT:20260906T020000Z
DTEND;VALUE=DATE-TIME;TZID=GMT:20260907T020000Z
DTSTAMP:20260426T031310Z
END:VEVENT
BEGIN:VEVENT
SUMMARY:Bikini Kill at Crystal Ballroom
DESCRIPTION:Notes: The Intima All Ages
LOCATION:Crystal Ballroom\, 1332 W Burnside St\, Portland\, US
UID:20260907T020000Z-4910-johnthomasreed@gmail.com
URL:https://www.panacherock.com
DTSTART;VALUE=DATE-TIME;TZID=GMT:20260907T020000Z
DTEND;VALUE=DATE-TIME;TZID=GMT:20260907T020000Z
DTSTAMP:20260426T031310Z
END:VEVENT
BEGIN:VEVENT
SUMMARY:Bikini Kill at The Wiltern
DESCRIPTION:Notes: Alice Bag All Ages
LOCATION:The Wiltern\, Los Angeles\, California\, US
UID:20260910T020000Z-4911-johnthomasreed@gmail.com
URL:https://www.panacherock.com
DTSTART;VALUE=DATE-TIME;TZID=GMT:20260910T020000Z
DTEND;VALUE=DATE-TIME;TZID=GMT:20260910T020000Z
DTSTAMP:20260426T031310Z
END:VEVENT
BEGIN:VEVENT
SUMMARY:Bikini Kill at Turner Hall Ballroom
DESCRIPTION:Notes: Ganser All Ages
LOCATION:Turner Hall Ballroom\, Milwaukee\, US
UID:20260914T020000Z-4912-johnthomasreed@gmail.com
URL:https://www.panacherock.com
DTSTART;VALUE=DATE-TIME;TZID=GMT:20260914T020000Z
DTEND;VALUE=DATE-TIME;TZID=GMT:20260914T020000Z
DTSTAMP:20260426T031310Z
END:VEVENT
BEGIN:VEVENT
SUMMARY:Bikini Kill at The Salt Shed
DESCRIPTION:Notes: Ganser All Ages
LOCATION:The Salt Shed\, Chicago\, US
UID:20260915T020000Z-4913-johnthomasreed@gmail.com
URL:https://www.panacherock.com
DTSTART;VALUE=DATE-TIME;TZID=GMT:20260915T020000Z
DTEND;VALUE=DATE-TIME;TZID=GMT:20260915T020000Z
DTSTAMP:20260426T031310Z
END:VEVENT
BEGIN:VEVENT
SUMMARY:Bikini Kill at Royal Oak Music Theatre
DESCRIPTION:Notes: Ganser All Ages
LOCATION:Royal Oak Music Theatre\, 318 West 4th Street\, Royal Oak\, US
UID:20260916T020000Z-4914-johnthomasreed@gmail.com
URL:https://www.panacherock.com
DTSTART;VALUE=DATE-TIME;TZID=GMT:20260916T020000Z
DTEND;VALUE=DATE-TIME;TZID=GMT:20260916T020000Z
DTSTAMP:20260426T031310Z
END:VEVENT
BEGIN:VEVENT
SUMMARY:Bikini Kill at Agora Theatre
DESCRIPTION:Notes: Ganser All Ages
LOCATION:Agora Theatre\, Cleveland\, US
UID:20260918T020000Z-4915-johnthomasreed@gmail.com
URL:https://www.panacherock.com
DTSTART;VALUE=DATE-TIME;TZID=GMT:20260918T020000Z
DTEND;VALUE=DATE-TIME;TZID=GMT:20260918T020000Z
DTSTAMP:20260426T031310Z
END:VEVENT
BEGIN:VEVENT
SUMMARY:Bikini Kill at Union Transfer
DESCRIPTION:Notes: Kilynn Lunsford All Ages
LOCATION:Union Transfer\, 1026 Spring Garden St\, Philadelphia\, US
UID:20260919T020000Z-4916-johnthomasreed@gmail.com
URL:https://www.panacherock.com
DTSTART;VALUE=DATE-TIME;TZID=GMT:20260919T020000Z
DTEND;VALUE=DATE-TIME;TZID=GMT:20260919T020000Z
DTSTAMP:20260426T031310Z
END:VEVENT
BEGIN:VEVENT
SUMMARY:Bikini Kill at The Fillmore Silver Spring
DESCRIPTION:Notes: Kilynn Lunsford All Ages
LOCATION:The Fillmore Silver Spring\, Silver Spring\, US
UID:20260920T020000Z-4917-johnthomasreed@gmail.com
URL:https://www.panacherock.com
DTSTART;VALUE=DATE-TIME;TZID=GMT:20260920T020000Z
DTEND;VALUE=DATE-TIME;TZID=GMT:20260920T020000Z
DTSTAMP:20260426T031310Z
END:VEVENT
BEGIN:VEVENT
SUMMARY:Bikini Kill at College Street Music Hall
DESCRIPTION:Notes: Kilynn Lunsford All Ages
LOCATION:College Street Music Hall\, 238 College St.\, New Haven\, US
UID:20260922T020000Z-4918-johnthomasreed@gmail.com
URL:https://www.panacherock.com
DTSTART;VALUE=DATE-TIME;TZID=GMT:20260922T020000Z
DTEND;VALUE=DATE-TIME;TZID=GMT:20260922T020000Z
DTSTAMP:20260426T031310Z
END:VEVENT
BEGIN:VEVENT
SUMMARY:Bikini Kill at Roadrunner
DESCRIPTION:All Ages
LOCATION:Roadrunner\, Boston\, US
UID:20260923T020000Z-4919-johnthomasreed@gmail.com
URL:https://www.panacherock.com
DTSTART;VALUE=DATE-TIME;TZID=GMT:20260923T020000Z
DTEND;VALUE=DATE-TIME;TZID=GMT:20260923T020000Z
DTSTAMP:20260426T031310Z
END:VEVENT
BEGIN:VEVENT
SUMMARY:Bikini Kill at Music Hall of Williamsburg
DESCRIPTION:All Ages
LOCATION:Music Hall of Williamsburg\, 66 N 6th St\, Brooklyn\, US
UID:20260925T020000Z-4920-johnthomasreed@gmail.com
URL:https://www.panacherock.com
DTSTART;VALUE=DATE-TIME;TZID=GMT:20260925T020000Z
DTEND;VALUE=DATE-TIME;TZID=GMT:20260925T020000Z
DTSTAMP:20260426T031310Z
END:VEVENT
BEGIN:VEVENT
SUMMARY:Bikini Kill at Brooklyn Steel
DESCRIPTION:Notes: Lambrini Girls All Ages
LOCATION:Brooklyn Steel\, 319 Frost St\, Brooklyn\, US
UID:20260926T020000Z-4921-johnthomasreed@gmail.com
URL:https://www.panacherock.com
DTSTART;VALUE=DATE-TIME;TZID=GMT:20260926T020000Z
DTEND;VALUE=DATE-TIME;TZID=GMT:20260926T020000Z
DTSTAMP:20260426T031310Z
END:VEVENT
BEGIN:VEVENT
SUMMARY:Bikini Kill at CBGB Festival
DESCRIPTION:All Ages
LOCATION:CBGB Festival\, Brooklyn\, US
UID:20260927T050000Z-4975-johnthomasreed@gmail.com
URL:https://www.panacherock.com
DTSTART;VALUE=DATE-TIME;TZID=GMT:20260927T050000Z
DTEND;VALUE=DATE-TIME;TZID=GMT:20260927T050000Z
DTSTAMP:20260426T031310Z
END:VEVENT
END:VCALENDAR